BEGIN:VCALENDAR
VERSION:2.0
PRODID:-//Ben Linders - ECPv6.15.20//NONSGML v1.0//EN
CALSCALE:GREGORIAN
METHOD:PUBLISH
X-ORIGINAL-URL:https://www.benlinders.com
X-WR-CALDESC:Events for Ben Linders
REFRESH-INTERVAL;VALUE=DURATION:PT1H
X-Robots-Tag:noindex
X-PUBLISHED-TTL:PT1H
BEGIN:VTIMEZONE
TZID:Europe/Amsterdam
BEGIN:DAYLIGHT
TZOFFSETFROM:+0100
TZOFFSETTO:+0200
TZNAME:CEST
DTSTART:20240331T010000
END:DAYLIGHT
BEGIN:STANDARD
TZOFFSETFROM:+0200
TZOFFSETTO:+0100
TZNAME:CET
DTSTART:20241027T010000
END:STANDARD
BEGIN:DAYLIGHT
TZOFFSETFROM:+0100
TZOFFSETTO:+0200
TZNAME:CEST
DTSTART:20250330T010000
END:DAYLIGHT
BEGIN:STANDARD
TZOFFSETFROM:+0200
TZOFFSETTO:+0100
TZNAME:CET
DTSTART:20251026T010000
END:STANDARD
BEGIN:DAYLIGHT
TZOFFSETFROM:+0100
TZOFFSETTO:+0200
TZNAME:CEST
DTSTART:20260329T010000
END:DAYLIGHT
BEGIN:STANDARD
TZOFFSETFROM:+0200
TZOFFSETTO:+0100
TZNAME:CET
DTSTART:20261025T010000
END:STANDARD
END:VTIMEZONE
BEGIN:VEVENT
DTSTART;VALUE=DATE:20250616
DTEND;VALUE=DATE:20250617
DTSTAMP:20260421T004650
CREATED:20250219T170846Z
LAST-MODIFIED:20250219T170846Z
UID:82966-1750032000-1750118399@www.benlinders.com
SUMMARY:DevOps Transformation Day with Psychological Safety Workshop
DESCRIPTION:On June 16 I will be hosting the DevOps Transformation Day and giving the workshop Fostering a Sustainable Collaborative Culture with Psychological Safety. Join me at DevOpsCon Berlin. \n \nDevOps Transformation Day\nBy joining DevOpsCon’s Transformation Day\, you’ll get a comprehensive insight into all the necessary aspects to make a DevOps transformation in your organization successful. As many DevOps efforts struggle with developing an appropriate company culture\, DevOpsCon’s Transformation Day focuses on becoming more agile as an entire organization. \nYou will not only get valuable insights into many theoretical aspects of a DevOps transformation\, but you’ll learn through practical examples how to encourage a sustainable culture of collaboration and knowledge sharing. \nInsights\, Strategy & Culture in One Day! \nWorkshop: Fostering a Sustainable Collaborative Culture with Psychological Safety\nMany DevOps efforts struggle with developing an appropriate company culture. Psychological safety is a key enabler for an effective and sustainable organizational-wide collaborative culture. It increases personal engagement\, makes it easier for people to speak up at work\, and enables learning from failure. When people feel psychologically safe\, your organization will become more adaptive and resilient\, able to deal with changes and innovate. \nIn this workshop\, you’ll learn how to foster a culture of psychological safety that enables high-performing teams to deliver faster and better. The practical exercises teach you to recognize the warning signals of low psychological safety and to take appropriate action to increase the level of psychological safety. \nPsychological safety is important for tech organizations as it enables faster delivery\, innovation\, learning from failures\, and experimentation. People only dare to challenge the status quo when they feel included and safe to contribute. Then failures can become opportunities for learning and sharing ideas for improvement across the whole organization. \nLearning objectives:\n– Learn what psychological safety is and what it isn’t\n– Recognize warning signals of low psychological safety\n– See the benefits that improving psychological safety can bring\n– Explore factors that foster and drive psychological safety \nAgenda:\n– Workshop introduction and check-in exercise\n– Definitions and theory of psychological safety\n– What psychological safety isn’t\, and what to (not) expect from it\n– How psychological safety and DevOps relate to each other\n– Exercise: Recognizing warning signals about lower levels of psychological safety\n– The benefits that psychological safety can bring\n– Exercise: Exploring factors that drive and foster psychological safety\n– Dos and don’ts for leaders for establishing psychological safety.\n– Wrap up\, ask me anything\, and takeaways \nDevOpsCon Berlin\nDevOps is fundamentally changing the IT world and sets the path for successful business transformation. Join DevOpsCon to learn about the latest tools. \nHow do cloud platforms\, microservices\, and Kubernetes play together with comprehensive automation and continuous delivery? How can you handle increasing complexity in your organization? \nAt DevOpsCon\, you will meet internationally recognized thought leaders of the DevOps movement and benefit from their expertise.
URL:https://www.benlinders.com/event/devops-transformation-day-with-psychological-safety-workshop/
LOCATION:Maritim proArte Hotel Berlin\, Friedrichstraße 151\, Berlin\, 10117\, Germany
CATEGORIES:Conference,Germany,Workshop
ATTACH;FMTTYPE=image/jpeg:https://www.benlinders.com/wp-content/uploads/DevOpsCon-Berlin-2025-Psychological-Safety-Ben-Linders.jpg
ORGANIZER;CN="S&S Media":MAILTO:info@sandsmedia.com
END:VEVENT
END:VCALENDAR