BEGIN:VCALENDAR
VERSION:2.0
PRODID:-//Ben Linders - ECPv6.15.20//NONSGML v1.0//EN
CALSCALE:GREGORIAN
METHOD:PUBLISH
X-ORIGINAL-URL:https://www.benlinders.com
X-WR-CALDESC:Events for Ben Linders
REFRESH-INTERVAL;VALUE=DURATION:PT1H
X-Robots-Tag:noindex
X-PUBLISHED-TTL:PT1H
BEGIN:VTIMEZONE
TZID:Europe/Amsterdam
BEGIN:DAYLIGHT
TZOFFSETFROM:+0100
TZOFFSETTO:+0200
TZNAME:CEST
DTSTART:20200329T010000
END:DAYLIGHT
BEGIN:STANDARD
TZOFFSETFROM:+0200
TZOFFSETTO:+0100
TZNAME:CET
DTSTART:20201025T010000
END:STANDARD
BEGIN:DAYLIGHT
TZOFFSETFROM:+0100
TZOFFSETTO:+0200
TZNAME:CEST
DTSTART:20210328T010000
END:DAYLIGHT
BEGIN:STANDARD
TZOFFSETFROM:+0200
TZOFFSETTO:+0100
TZNAME:CET
DTSTART:20211031T010000
END:STANDARD
BEGIN:DAYLIGHT
TZOFFSETFROM:+0100
TZOFFSETTO:+0200
TZNAME:CEST
DTSTART:20220327T010000
END:DAYLIGHT
BEGIN:STANDARD
TZOFFSETFROM:+0200
TZOFFSETTO:+0100
TZNAME:CET
DTSTART:20221030T010000
END:STANDARD
END:VTIMEZONE
BEGIN:VEVENT
DTSTART;VALUE=DATE:20210329
DTEND;VALUE=DATE:20210331
DTSTAMP:20260421T054627
CREATED:20210314T104008Z
LAST-MODIFIED:20210327T092413Z
UID:44644-1616976000-1617148799@www.benlinders.com
SUMMARY:Workshop Develop Better Products with Agile - Live Online
DESCRIPTION:Learn how to develop better products using agile practices to understand your customers\, develop iteratively\, deliver faster with better quality\, and get valuable product feedback on March 29-30\, 2021! \nA two-day workshop for €750. Early bird until March 19: €600. \nThis workshop is part of the March 2021 Agile Training Week. \nDevelop Better Products with Agile\nMany teams are adopting an agile way of working\, for instance with Scrum. Their expectation is that agile will help them to develop products that satisfy their customer’s needs\, be more flexible\, and deliver faster. Unfortunately\, it doesn’t always work that way. Working in teams and collaborating with your customers to get feedback is hard. It’s not about doing Scrum\, it’s about effectively using agile practices to deliver value faster. \nIn the workshop Develop Better Products with Agile you will practice agile and learn how to apply it effectively: \n\nPractice understanding and prioritizing customer’s needs.\nWork in small teams to develop products iteratively.\nLearn to gather valuable feedback with product reviews and demos.\nSee how to improve your way of working with agile retrospectives.\nFind out how to effectively apply agile practices with an agile mindset.\n\nThe workshop is loaded with examples and suggestions to help you deliver the right products faster. \nIf your team(s) are \n\nfinding it difficult to understand your customer’s needs to decide on what to deliver when\nnot delivering working software or not able to finish user stories within a reasonable time\nnot getting feedback from customers and unsure if you are delivering value to your customers\nhaving difficulties communicating and working together as a self-organized team\ndoing agile/Scrum/Kanban rituals but feeling that they are not always helpful\nhaving difficulty to reflect and learn and get good actions out of your retrospective\n\nthen this is the workshop for you! \nLearning by Doing\nThe practices that you will be using in the workshop Develop Better Products with Agile will help you to develop the right products for your business and customers\, reduce your delivery time\, increase the quality of your software products\, and become a collaborative high-performing team. \nYou will practice: \n\nCommunicating with customers to build a backlog and slice it into small product pieces to deliver\nPrioritize delivery using criteria like value\, risk\, learning\, debt\, dependencies\, etc\nCollaborating remotely to create products\nDoing demo and feedback sessions to find out what customers think of your product\nFacilitating retrospectives to learn and improve product development skills\n\nAudience\nThe workshop Develop Better Products with Agile is intended for: \n\n(Senior) Developers\, Architects\, UI/UX designers\, and Testers\nProduct Owners/managers\nTechnical (team) leaders and Scrum masters\nProject/Line Managers\n(Business) Stakeholders working with agile teams\nAgile and Lean Coaches\nAnybody who is supporting teams in increasing their performance\n\nKey-Learnings\n\nBecome better at understanding what your customers really need\nSkills for prioritizing product development to deliver more value faster\nAbility to do product reviews/demos to get valuable feedback\nWays to reflect and learn to increase the performance of your teams\n\nPractical information\nTwo-day\, four-hour per day interactive live workshop. \nYou can book this workshop by buying a ticket below\, or by contacting me by email at benlinders@gmail.com. \nThere’s no minimum number of attendees\, this workshop will be held even if only one person signs up. Tickets are limited to ensure that all attendees can participate in the exercises and play the games to be fully involved and engaged. \nCancelations are allowed until one week before the workshop is held. If you can’t attend then a colleague can use your ticket to join. \nLearning by practicing and experiencing\nDoing it yourself and reflecting is the way people learn new practices and develop skills in my workshops. They work in teams to try out things and experiment with practices to learn how agile can really look and feel. I coach people\, answer questions\, share my experience\, and provide lots of ideas. They learn from me\, and also from each other. \nI use many exercises\, games\, and real-life cases in my workshops. Examples are the retrospectives toolbox\, the Impediment Game\, and the Agile Self-assessment Game. \nMy approach enables attendees to apply the things they learned in their daily work.\nThe workshops are time well spend; organizations get value for their money!
URL:https://www.benlinders.com/event/workshop-develop-better-products-agile-live-online/
LOCATION:Online\, Netherlands
CATEGORIES:Australia,Austria,Belgium,Bosnia,China,Croatia,Czech Republic,Finland,France,Germany,Greece,Hungary,Ireland,Israel,Lebanon,Lithuania,Making Agile Work,Netherlands,Nigeria,Poland,Portugal,Russian federation,Serbia,Singapore,Spain,Sweden,Switzerland,Turkey,UK,Ukraine,United Aram Emirates,US,Workshop
ATTACH;FMTTYPE=image/jpeg:https://www.benlinders.com/wp-content/uploads/Workshop-Develop-Better-Products-with-Agile-Ben-Linders-Mar-29-30-2021.jpg
ORGANIZER;CN="Ben Linders":MAILTO:benlinders@gmail.com
END:VEVENT
BEGIN:VEVENT
DTSTART;TZID=Europe/Amsterdam:20210301T180000
DTEND;TZID=Europe/Amsterdam:20210301T220000
DTSTAMP:20260421T054627
CREATED:20210221T140113Z
LAST-MODIFIED:20210221T140113Z
UID:44514-1614621600-1614636000@www.benlinders.com
SUMMARY:Workshop Assessing your Agility at Agile Nigeria Conference
DESCRIPTION:Assessing your Agility by Ben Linders\, workshop in collaboration with The Agile Advisor Africa for the Agile Nigeria Conference. \nDate: March 1\, 2021.\nTime: 6:00 pm – 10:00 pm WAT.\nVenue: Live Online.\nPrice: €300 per participant. \nRegister at the Agile Nigeria Conference Website. \n \nAssessing your Agility\nIn the workshop Assessing your Agility\, you will practice games and exercises to explore how agile your teams are. \nWe’ll be playing The Agile Self-Assessment Game\, a serious game used by teams and organizations to self-assess their agility and much more. \n \nAudience\nThis workshop is intended for: \n-Agile Teams.\n-Technical (team) leaders and Scrum masters\n-Product Owners and Project/Line Managers\n-Stakeholders working with agile teams\n-Agile and Lean Coaches\n-Anybody who is supporting teams in agile transformations \nThe practices in this workshop will help you to explore your way of working and take the next steps on your agile journey. \nResults\nWhat will you get out of this workshop: \n-Explore what agile and agility means and the benefits that they can bring\n-Understand the power of engagement and invitation-based agile adoption approaches\n-Experience how you can self-assess the agility of teams and organizations\n-Play the Agile Self-assessment Game using different playing formats and card decks\n-Learn ways for planning and traveling your own agile journey.
URL:https://www.benlinders.com/event/workshop-assessing-agility-agile-nigeria-conference/
LOCATION:Online\, Netherlands
CATEGORIES:Assess Agility,Australia,Austria,Belgium,Bosnia,China,Croatia,Czech Republic,Finland,France,Germany,Greece,Hungary,Ireland,Israel,Lebanon,Lithuania,Netherlands,Nigeria,Poland,Portugal,Russian federation,Serbia,Singapore,Spain,Sweden,Switzerland,Turkey,UK,Ukraine,United Aram Emirates,US,Workshop
ATTACH;FMTTYPE=image/jpeg:https://www.benlinders.com/wp-content/uploads/assessing-your-agility-Agile-Nigeria-2021-social.jpg
END:VEVENT
END:VCALENDAR