BEGIN:VCALENDAR
VERSION:2.0
PRODID:-//Ben Linders - ECPv6.15.20//NONSGML v1.0//EN
CALSCALE:GREGORIAN
METHOD:PUBLISH
X-WR-CALNAME:Ben Linders
X-ORIGINAL-URL:https://www.benlinders.com
X-WR-CALDESC:Events for Ben Linders
REFRESH-INTERVAL;VALUE=DURATION:PT1H
X-Robots-Tag:noindex
X-PUBLISHED-TTL:PT1H
BEGIN:VTIMEZONE
TZID:Europe/Amsterdam
BEGIN:DAYLIGHT
TZOFFSETFROM:+0100
TZOFFSETTO:+0200
TZNAME:CEST
DTSTART:20220327T010000
END:DAYLIGHT
BEGIN:STANDARD
TZOFFSETFROM:+0200
TZOFFSETTO:+0100
TZNAME:CET
DTSTART:20221030T010000
END:STANDARD
BEGIN:DAYLIGHT
TZOFFSETFROM:+0100
TZOFFSETTO:+0200
TZNAME:CEST
DTSTART:20230326T010000
END:DAYLIGHT
BEGIN:STANDARD
TZOFFSETFROM:+0200
TZOFFSETTO:+0100
TZNAME:CET
DTSTART:20231029T010000
END:STANDARD
BEGIN:DAYLIGHT
TZOFFSETFROM:+0100
TZOFFSETTO:+0200
TZNAME:CEST
DTSTART:20240331T010000
END:DAYLIGHT
BEGIN:STANDARD
TZOFFSETFROM:+0200
TZOFFSETTO:+0100
TZNAME:CET
DTSTART:20241027T010000
END:STANDARD
END:VTIMEZONE
BEGIN:VEVENT
DTSTART;VALUE=DATE:20230904
DTEND;VALUE=DATE:20230906
DTSTAMP:20260419T160426
CREATED:20230205T075932Z
LAST-MODIFIED:20230205T080635Z
UID:51935-1693785600-1693958399@www.benlinders.com
SUMMARY:Improving Your Testing Skills and Practices with Gamification @ Testing United 2023
DESCRIPTION:At Testing United 2023 I will talk about Improving Your Testing Skills and Practices with Gamification. The conference will be held in Bratislava and Miami\, and in VR\, on September 4 & 5. \nImproving Your Testing Skills and Practices with Gamification\nSo many challenges\, and so little time. As testers\, we need to sharpen the saw\, but how? Gamification can be a way to look at how you’re doing and find out where to improve. It’s a great way to have everyone engaged and get the best out of people. \nWith games\, we can foster psychological safety and create a setting where people feel safe to speak up about how things are going. Playing games with coaching cards people share what’s working and what isn’t\, the challenges they are facing\, and what they would like to try out. Everybody will be involved\, it’s a fun and effective way to practice new ideas and collaboratively decide on what to improve next. \nThe testing coaching cards contain statements about agile testing mindset\, values\, principles\, and practices. Playing with these coaching cards helps testers to explore their contributions and look for ways to increase the value that they contribute to their team and organization. \nIn this presentation\, Ben Linders will show how playing games (onsite or online) with the Agile Testing Coaching Cards and Agile Quality Coaching Cards help to explore your current testing and quality practices and decide as a team on what to improve and experiment with. \n3 key takeaways \n\nLearn about gamification as a way to engage people into learning\nUnderstand the importance of psychological safety in improving skills and team performance\nSee how coaching cards can be used to discuss and self-assess working practices\n\nTesting United\nTesting United is a testing conference aimed at all levels of testers\, test leads\, test managers\, test consultants and IT employees that come in daily contact with testing teams. The conference unites experts from the extended central Europe region\, and thus expands on this idea by periodically rotating the venue between Vienna\, Prague and Bratislava since 2018. \nWith this year’s main topic “2023: Tester’s place in Universe\, Metaverse & Beyond“\, experienced speakers will outline the changes testing community is facing.
URL:https://www.benlinders.com/event/improving-testing-skills-practices-gamification-testing-united-2023/
LOCATION:Refinery Gallery Bratislava\, Vlčie hrdlo\, Bratislava\, 821 07\, Slovakia (Slovak Republic)
CATEGORIES:Conference,online,Slovakia
ATTACH;FMTTYPE=image/jpeg:https://www.benlinders.com/wp-content/uploads/Testing-United-2023-social.jpg
END:VEVENT
END:VCALENDAR