BEGIN:VCALENDAR
VERSION:2.0
PRODID:-//Ben Linders - ECPv6.15.20//NONSGML v1.0//EN
CALSCALE:GREGORIAN
METHOD:PUBLISH
X-ORIGINAL-URL:https://www.benlinders.com
X-WR-CALDESC:Events for Ben Linders
REFRESH-INTERVAL;VALUE=DURATION:PT1H
X-Robots-Tag:noindex
X-PUBLISHED-TTL:PT1H
BEGIN:VTIMEZONE
TZID:Europe/Amsterdam
BEGIN:DAYLIGHT
TZOFFSETFROM:+0100
TZOFFSETTO:+0200
TZNAME:CEST
DTSTART:20230326T010000
END:DAYLIGHT
BEGIN:STANDARD
TZOFFSETFROM:+0200
TZOFFSETTO:+0100
TZNAME:CET
DTSTART:20231029T010000
END:STANDARD
BEGIN:DAYLIGHT
TZOFFSETFROM:+0100
TZOFFSETTO:+0200
TZNAME:CEST
DTSTART:20240331T010000
END:DAYLIGHT
BEGIN:STANDARD
TZOFFSETFROM:+0200
TZOFFSETTO:+0100
TZNAME:CET
DTSTART:20241027T010000
END:STANDARD
BEGIN:DAYLIGHT
TZOFFSETFROM:+0100
TZOFFSETTO:+0200
TZNAME:CEST
DTSTART:20250330T010000
END:DAYLIGHT
BEGIN:STANDARD
TZOFFSETFROM:+0200
TZOFFSETTO:+0100
TZNAME:CET
DTSTART:20251026T010000
END:STANDARD
END:VTIMEZONE
BEGIN:VEVENT
DTSTART;VALUE=DATE:20241118
DTEND;VALUE=DATE:20241121
DTSTAMP:20260425T165359
CREATED:20241023T030407Z
LAST-MODIFIED:20241023T030407Z
UID:73986-1731888000-1732147199@www.benlinders.com
SUMMARY:QCon San Francisco 2024
DESCRIPTION:I’m attending QCon San Francisco as a dedicated reporter for InfoQ\, doing virtual panels with the speakers and covering topics of the sessions. \n \nQCon San Fransisco\nMake the right decisions by uncovering how senior software developers at early adopter companies are adopting emerging trends. \nLearn the emerging trends. Explore the use cases. Implement the best practices. \nWe’ve helped thousands of senior software engineers\, software architects and tech leaders adopt the right patterns & practices for over 18 years. \nInfoQ\nSoftware is changing the world\, and our mission is to help dev teams adopt new technologies and practices. InfoQ provides software engineers with the opportunity to share experiences gained using innovator and early adopter stage techniques and technologies with the wider industry. We carefully curate and peer review everything we publish. We strongly believe that the high quality insights\, offered by both our editors and other contributors\, have the power to uplift entire communities\, no matter what their native language. \nOver 550K global senior software developers rely on the InfoQ community every month to keep ahead of the adoption curve. Our community editors aim to ensure that our readers never miss out on important trends. One of the main reasons software architects and engineers tell us they keep coming back to InfoQ is because they trust the information provided and selected by their peers.
URL:https://www.benlinders.com/event/qcon-san-francisco-2024/
LOCATION:Hyatt Regency SF\, 5 Embarcadero Center\, San Francisco\, 94111\, United States
CATEGORIES:Conference,US
ATTACH;FMTTYPE=image/jpeg:https://www.benlinders.com/wp-content/uploads/QCon-SF-2024-Banner.jpg
END:VEVENT
END:VCALENDAR