BEGIN:VCALENDAR
VERSION:2.0
PRODID:-//Ben Linders - ECPv6.15.20//NONSGML v1.0//EN
CALSCALE:GREGORIAN
METHOD:PUBLISH
X-ORIGINAL-URL:https://www.benlinders.com
X-WR-CALDESC:Events for Ben Linders
REFRESH-INTERVAL;VALUE=DURATION:PT1H
X-Robots-Tag:noindex
X-PUBLISHED-TTL:PT1H
BEGIN:VTIMEZONE
TZID:Europe/Amsterdam
BEGIN:DAYLIGHT
TZOFFSETFROM:+0100
TZOFFSETTO:+0200
TZNAME:CEST
DTSTART:20230326T010000
END:DAYLIGHT
BEGIN:STANDARD
TZOFFSETFROM:+0200
TZOFFSETTO:+0100
TZNAME:CET
DTSTART:20231029T010000
END:STANDARD
BEGIN:DAYLIGHT
TZOFFSETFROM:+0100
TZOFFSETTO:+0200
TZNAME:CEST
DTSTART:20240331T010000
END:DAYLIGHT
BEGIN:STANDARD
TZOFFSETFROM:+0200
TZOFFSETTO:+0100
TZNAME:CET
DTSTART:20241027T010000
END:STANDARD
BEGIN:DAYLIGHT
TZOFFSETFROM:+0100
TZOFFSETTO:+0200
TZNAME:CEST
DTSTART:20250330T010000
END:DAYLIGHT
BEGIN:STANDARD
TZOFFSETFROM:+0200
TZOFFSETTO:+0100
TZNAME:CET
DTSTART:20251026T010000
END:STANDARD
END:VTIMEZONE
BEGIN:VEVENT
DTSTART;VALUE=DATE:20240617
DTEND;VALUE=DATE:20240621
DTSTAMP:20260425T173845
CREATED:20240306T210239Z
LAST-MODIFIED:20240524T165244Z
UID:61858-1718582400-1718927999@www.benlinders.com
SUMMARY:Improving Agile Development and Operations with Gamification at DevOpsCon Berlin 2024
DESCRIPTION:I will be returning to DevOpsCon Berlin to give a talk about Improving Agile Development and Operations with Gamification. Join me in Berlin on June 17 at the DevOps Transformation Day.\n \nGamify it until you make it: Improving Agile Development and Operations with Gamification\nSo many challenges\, so little time. While we’re busy developing software and keeping it operational\, we also need to sharpen the saw\, but how? Gamification can be a way to look at how you’re doing and find out where to improve. It’s a great way to have everyone involved and get the best out of people. \nIn this presentation\, Ben Linders will show how playing games with the DevOps coaching cards can help to explore your current development and deployment (DevOps) practices and decide as a team what to improve or experiment with. \nThe games that we play are based on an engagement model. Instead of imposing change\, the games enable people to pull in ideas for change and apply those in a way that best suits their collective needs. \nBy playing games\, you can learn from each other. Teams can use games\, exercises\, and coaching cards to discuss values\, principles\, and practices\, and share their experiences and learnings. \nDifferent game formats can be used to share experiences on DevOps principles and practices and explore how they can be applied effectively. This presentation provides an overview of playing formats and will inspire you to come up with your own formats. \nDevOpsCon Berlin\nDevOpsCon is the Conference for CI/CD\, the Kubernetes Ecosystem\, and Agile & Lean Business. \nBecause we want to ensure that the lively exchange of knowledge and ideas so typical of DevOpsCon Berlin continues to work well\, we were one of the first in the conference industry to develop our hybrid concept. \nYou can choose to attend the conference either on site or online from your home or office. In order to be accessible to all participants\, all DevOpsCon tracks will be streamed live. Using professional video technology\, all lectures and workshops will be broadcast live. And that’s not all: You can also get in touch with our speakers and expo partners\, even if you won’t be there! \n \n 
URL:https://www.benlinders.com/event/improving-agile-development-operations-with-gamification-devopscon-berlin-2024/
LOCATION:Maritim proArte Hotel Berlin\, Friedrichstraße 151\, Berlin\, 10117\, Germany
CATEGORIES:Conference,Germany,online
ATTACH;FMTTYPE=image/jpeg:https://www.benlinders.com/wp-content/uploads/DevOpsCon-Berlin-2024-Ben-Linders.jpg
ORGANIZER;CN="S&S Media":MAILTO:info@sandsmedia.com
END:VEVENT
END:VCALENDAR