BEGIN:VCALENDAR
VERSION:2.0
PRODID:-//Ben Linders - ECPv6.15.20//NONSGML v1.0//EN
CALSCALE:GREGORIAN
METHOD:PUBLISH
X-WR-CALNAME:Ben Linders
X-ORIGINAL-URL:https://www.benlinders.com
X-WR-CALDESC:Events for Ben Linders
REFRESH-INTERVAL;VALUE=DURATION:PT1H
X-Robots-Tag:noindex
X-PUBLISHED-TTL:PT1H
BEGIN:VTIMEZONE
TZID:Europe/Amsterdam
BEGIN:DAYLIGHT
TZOFFSETFROM:+0100
TZOFFSETTO:+0200
TZNAME:CEST
DTSTART:20240331T010000
END:DAYLIGHT
BEGIN:STANDARD
TZOFFSETFROM:+0200
TZOFFSETTO:+0100
TZNAME:CET
DTSTART:20241027T010000
END:STANDARD
BEGIN:DAYLIGHT
TZOFFSETFROM:+0100
TZOFFSETTO:+0200
TZNAME:CEST
DTSTART:20250330T010000
END:DAYLIGHT
BEGIN:STANDARD
TZOFFSETFROM:+0200
TZOFFSETTO:+0100
TZNAME:CET
DTSTART:20251026T010000
END:STANDARD
BEGIN:DAYLIGHT
TZOFFSETFROM:+0100
TZOFFSETTO:+0200
TZNAME:CEST
DTSTART:20260329T010000
END:DAYLIGHT
BEGIN:STANDARD
TZOFFSETFROM:+0200
TZOFFSETTO:+0100
TZNAME:CET
DTSTART:20261025T010000
END:STANDARD
END:VTIMEZONE
BEGIN:VEVENT
DTSTART;VALUE=DATE:20250407
DTEND;VALUE=DATE:20250410
DTSTAMP:20260426T023122
CREATED:20241220T220240Z
LAST-MODIFIED:20241220T220240Z
UID:78859-1743984000-1744243199@www.benlinders.com
SUMMARY:QCon London 2025
DESCRIPTION:Again I’m attending QCon London as a dedicated reporter for InfoQ. Attend QCon to uncover how senior software developers at early adopter companies are adopting emerging trends. \n \nQCon London\nWe’ve helped thousands of senior software engineers\, software architects and tech leaders adopt the right patterns & practices for over 18 years. \nQCon London brought to you by the makers of QCon and InfoQ \nWe’ve been helping software development teams adopt new technologies and practices for over 18 years. The driving force behind every QCon conference is our passion to accelerate the software side of human progress. \nSenior software developers rely on QCon and InfoQ to keep ahead of the adoption curve. One of the main reasons senior software engineers\, software architects and team leads tell us they keep coming back to QCon and InfoQ is because they trust the information provided and selected by their peers. Join a global professional engineering community and adopt the right software innovations and practices.
URL:https://www.benlinders.com/event/qcon-london-2025/
LOCATION:Queen Elizabeth II Conference Centre\, Broad Sanctuary\, Westminster\, London\, England\, SW1P 3EE\, United Kingdom
CATEGORIES:Conference,UK
ATTACH;FMTTYPE=image/jpeg:https://www.benlinders.com/wp-content/uploads/QCon-London-2025-Banner.jpg
END:VEVENT
END:VCALENDAR