BEGIN:VCALENDAR
VERSION:2.0
PRODID:-//Ben Linders - ECPv6.15.20//NONSGML v1.0//EN
CALSCALE:GREGORIAN
METHOD:PUBLISH
X-WR-CALNAME:Ben Linders
X-ORIGINAL-URL:https://www.benlinders.com
X-WR-CALDESC:Events for Ben Linders
REFRESH-INTERVAL;VALUE=DURATION:PT1H
X-Robots-Tag:noindex
X-PUBLISHED-TTL:PT1H
BEGIN:VTIMEZONE
TZID:Europe/Amsterdam
BEGIN:DAYLIGHT
TZOFFSETFROM:+0100
TZOFFSETTO:+0200
TZNAME:CEST
DTSTART:20250330T010000
END:DAYLIGHT
BEGIN:STANDARD
TZOFFSETFROM:+0200
TZOFFSETTO:+0100
TZNAME:CET
DTSTART:20251026T010000
END:STANDARD
BEGIN:DAYLIGHT
TZOFFSETFROM:+0100
TZOFFSETTO:+0200
TZNAME:CEST
DTSTART:20260329T010000
END:DAYLIGHT
BEGIN:STANDARD
TZOFFSETFROM:+0200
TZOFFSETTO:+0100
TZNAME:CET
DTSTART:20261025T010000
END:STANDARD
BEGIN:DAYLIGHT
TZOFFSETFROM:+0100
TZOFFSETTO:+0200
TZNAME:CEST
DTSTART:20270328T010000
END:DAYLIGHT
BEGIN:STANDARD
TZOFFSETFROM:+0200
TZOFFSETTO:+0100
TZNAME:CET
DTSTART:20271031T010000
END:STANDARD
END:VTIMEZONE
BEGIN:VEVENT
DTSTART;VALUE=DATE:20261116
DTEND;VALUE=DATE:20261120
DTSTAMP:20260423T000204
CREATED:20260421T081232Z
LAST-MODIFIED:20260421T081232Z
UID:86946-1794787200-1795132799@www.benlinders.com
SUMMARY:Workshop Explore and Improve Psychological Safety in Software Teams at Agile Testing Days 2026
DESCRIPTION:I’m returning to Agile Testing Days to give the workshop Explore and Improve Psychological Safety in Software Teams on Tuesday\, November 17th in Potsdam (near Berlin)\, Germany. \nExplore and Improve Psychological Safety in Software Teams\nPsychological safety fuels high-performing teams. When people feel safe to speak up\, collaborate openly\, and share ideas\, trust grows – unlocking innovation\, resilience\, and sustainable delivery. \nAudience \n\nAnybody working in or with teams: testers\, developers\, tech leads\, coaches\, managers\, architects …\n\nKey-Learnings \n\nUnderstand psychological safety and how it fuels engagement\, collaboration\, innovation\, and sustainable team performance.\nRecognize behaviors and team dynamics that build trust and safety\, or that undermine culture and results.\nUse games and coaching cards to make hidden patterns visible and apply practical techniques to create safer\, high-performing teams.\n\nExplore psychological safety and team culture through game-playing and coaching cards. Experience how gamification reveals team dynamics and helps you understand what’s really happening inside teams. \nPsychological safety is the shared belief that a team is safe for interpersonal risk-taking. It allows team members to speak up\, admit mistakes\, share ideas\, experiment\, discuss conflicts\, and ask for feedback. When teams feel psychologically safe\, they see failures as opportunities for learning\, challenge the status quo\, and contribute openly to innovation and improvement. \nBut\, how safe is a team? How can we determine the factors that make the team unsafe or have an impact on the team’s culture? \nIn this mini-workshop\, you’ll explore what happens when people feel safe to raise issues\, ask for help\, and take smart risks without fear of blame. Through real-world examples\, team games\, and practical exercises\, you’ll uncover the factors that strengthen or weaken psychological safety and learn how to build an environment where every team member feels included\, valued\, and empowered to act. \nPsychological safety is essential for developers\, testers\, and tech leads who want to build great products and great teams. Without psychological safety\, teams cannot build deep\, authentic relationships necessary for sustained success and value creation. It’s the hidden engine behind high-performing software teams. Tech teams that foster safety collaborate effectively\, innovate confidently\, and continuously improve. \nYou’ll leave this workshop with actionable ideas\, techniques\, and insights to cultivate trust\, enhance team performance\, and create a culture where people earn\, experiment\, and thrive. \nAgile Testing Days\nSave €180 on your conference ticket with the code “ATD-2026-180-Ben”! \nAgile Testing Days is a leading international software testing conference recognized for deep practitioner content and strategic insight. Over four days — onsite and virtual — the event brings together senior testers\, engineers\, and quality professionals from around the world to explore advanced testing practices\, real-world challenges\, and emerging trends in modern software quality and agile development. \nSince 2009\, Agile Testing Days has grown to one of Europe’s leading software testing conferences\, welcoming 400–700 onsite participants and 300–500 online attendees each year. \nCompared to many other software testing events\, Agile Testing Days offers one of the most extensive and content-rich programs worldwide\, featuring 100+ sessions\, parallel tracks\, expert workshops\, and strategic discussions. This unique combination of practical depth and breadth distinguishes Agile Testing Days in the global testing community.
URL:https://www.benlinders.com/event/workshop-explore-and-improve-psychological-safety-in-software-teams-at-agile-testing-days-2026/
LOCATION:Dorint Sanssouci Berlin/Potsdam\, Jägerallee 20\, Potsdam\,  14469\, Germany
CATEGORIES:Conference,Germany,Workshop
ATTACH;FMTTYPE=image/jpeg:https://www.benlinders.com/wp-content/uploads/Header-Workshop-Psychological-Safety-Agile-Testing-Days-2026-Ben-Linders.jpg
ORGANIZER;CN="Trendig":MAILTO:info@agiletestingdays.com
END:VEVENT
END:VCALENDAR