BEGIN:VCALENDAR
VERSION:2.0
PRODID:-//Ben Linders - ECPv6.15.20//NONSGML v1.0//EN
CALSCALE:GREGORIAN
METHOD:PUBLISH
X-ORIGINAL-URL:https://www.benlinders.com
X-WR-CALDESC:Events for Ben Linders
REFRESH-INTERVAL;VALUE=DURATION:PT1H
X-Robots-Tag:noindex
X-PUBLISHED-TTL:PT1H
BEGIN:VTIMEZONE
TZID:Europe/Amsterdam
BEGIN:DAYLIGHT
TZOFFSETFROM:+0100
TZOFFSETTO:+0200
TZNAME:CEST
DTSTART:20230326T010000
END:DAYLIGHT
BEGIN:STANDARD
TZOFFSETFROM:+0200
TZOFFSETTO:+0100
TZNAME:CET
DTSTART:20231029T010000
END:STANDARD
BEGIN:DAYLIGHT
TZOFFSETFROM:+0100
TZOFFSETTO:+0200
TZNAME:CEST
DTSTART:20240331T010000
END:DAYLIGHT
BEGIN:STANDARD
TZOFFSETFROM:+0200
TZOFFSETTO:+0100
TZNAME:CET
DTSTART:20241027T010000
END:STANDARD
BEGIN:DAYLIGHT
TZOFFSETFROM:+0100
TZOFFSETTO:+0200
TZNAME:CEST
DTSTART:20250330T010000
END:DAYLIGHT
BEGIN:STANDARD
TZOFFSETFROM:+0200
TZOFFSETTO:+0100
TZNAME:CET
DTSTART:20251026T010000
END:STANDARD
END:VTIMEZONE
BEGIN:VEVENT
DTSTART;VALUE=DATE:20241125
DTEND;VALUE=DATE:20241129
DTSTAMP:20260425T234859
CREATED:20240903T085928Z
LAST-MODIFIED:20241108T095025Z
UID:68257-1732492800-1732838399@www.benlinders.com
SUMMARY:Workshop on Problem-solving and keynote on Gamification at DevOpsCon Singapore 2024
DESCRIPTION:I’m returning to DevOpsCon Singapore to give the workshop Fostering an Agile Culture for Effective Problem Solving and a keynote on Improving Agile Development and Operations With Gamification. Join me on November 25-28. \n \nWorkshop Fostering an Agile Culture for Effective Problem Solving\nPractice culture change\, learn how to increase team autonomy and morale for effective problem-solving\, and explore retrospectives to increase business agility in this interactive workshop. \nAdopting agile often doesn’t live up to its promise of delivering better products fast at lower costs. The missing ingredients that cause failure have to do with an insufficient agile mindset and difficulties in changing to a culture of agile thinking and acting. An agile culture is the foundation for a collaborative way of working and business agility\, it is a key factor that you need to work on. \nIn this workshop\, we’ll explore how organizations can visualize their culture. We learn how organizations can foster a mindset and culture change toward agility and how they can apply agile DevOps practices and capabilities to deliver value frequently and fast. \nWe’ll explore how team autonomy and morale can be increased by playing the Agile Impediment Board Game. Using gamification we’ll practice effective collaborative problem-solving techniques. \nFinally\, we’ll see how agile retrospectives can be used to establish continuous improvement with effective communication and collaboration\, to increase the agility of teams and the organization. \nAttendees get free downloadable copies of the Culture Cards\, Impediment Board Game\, and ebook Problem? What Problem? (value $40). \nGamify It Until You Make It: Improving Agile Development and Operations With Gamification\nSo many challenges\, so little time. While we’re busy developing software and keeping it operational\, we also need to sharpen the saw\, but how? Gamification can be a way to look at how you’re doing and find out where to improve. It’s a great way to have everyone involved and get the best out of people. \nIn this keynote\, Ben Linders will show how playing games with the DevOps coaching cards can help to explore your current development and deployment (DevOps) practices and decide as a team what to improve or experiment with. The games that we play are based on an engagement model. Instead of imposing change\, the games enable people to pull in ideas for change and apply those in a way that best suits their collective needs. \nBy playing games\, you can learn from each other. Teams can use games\, exercises\, and coaching cards to discuss values\, principles\, and practices\, and share their experiences and learnings. Different game formats can be used to share experiences on DevOps principles and practices and explore how they can be applied effectively. This presentation provides an overview of playing formats and will inspire you to come up with your own formats. \nDevOpsCon Singapore\nDevOps is fundamentally changing the IT world and sets the path for successful business transformation. Join DevOpsCon to learn about the latest tools. \nHow do cloud platforms\, microservices\, and Kubernetes play together with comprehensive automation and continuous delivery? How can you handle increasing complexity in your organization? \nAt DevOpsCon\, you will meet internationally recognized thought leaders of the DevOps movement and benefit from their expertise.
URL:https://www.benlinders.com/event/workshop-problem-solving-talk-gamification-devopscon-singapore-2024/
LOCATION:Suntec Singapore Convention and Exhibition Center\, 1 Raffles Blvd\, Singapore\, 039593\, Singapore
CATEGORIES:Conference,Problem Solving,Singapore,Workshop
ATTACH;FMTTYPE=image/jpeg:https://www.benlinders.com/wp-content/uploads/DevOpsCon-Singapore-2024-banner.jpg
ORGANIZER;CN="S&S Media":MAILTO:info@sandsmedia.com
END:VEVENT
END:VCALENDAR